BEGIN:VCALENDAR
VERSION:2.0
PRODID:-//Collie Motorplex - ECPv6.15.18//NONSGML v1.0//EN
CALSCALE:GREGORIAN
METHOD:PUBLISH
X-WR-CALNAME:Collie Motorplex
X-ORIGINAL-URL:https://colliemotorplex.org.au
X-WR-CALDESC:Events for Collie Motorplex
REFRESH-INTERVAL;VALUE=DURATION:PT1H
X-Robots-Tag:noindex
X-PUBLISHED-TTL:PT1H
BEGIN:VTIMEZONE
TZID:Australia/Perth
BEGIN:STANDARD
TZOFFSETFROM:+0800
TZOFFSETTO:+0800
TZNAME:AWST
DTSTART:20250101T000000
END:STANDARD
END:VTIMEZONE
BEGIN:VEVENT
DTSTART;TZID=Australia/Perth:20260306T120000
DTEND;TZID=Australia/Perth:20260306T160000
DTSTAMP:20260426T085242
CREATED:20260213T033959Z
LAST-MODIFIED:20260213T033959Z
UID:4516-1772798400-1772812800@colliemotorplex.org.au
SUMMARY:PRACTICE - State Speed Event Series - Combined Sprint(cars)
DESCRIPTION:PRACTICE day for the competitors of State Speed Event Series – Combined Sprint \nFrom 12noon – 4pm
URL:https://colliemotorplex.org.au/event/practice-state-speed-event-series-combined-sprintcars/
LOCATION:Collie Motorplex\, Lot 643 Powerhouse Road\, Collie\, WA\, 6225\, Australia
END:VEVENT
END:VCALENDAR